Workbook

Sheet Assumptions
B2: Area, sq. m. | C2: 800
B3: Price per sq. m., LV | C3: 3000
B4: Total price, LV k | C4: =PRODUCT(C2,C3)/1000 -> 2400
B6: Acquisition date | C6: 41639
B8: Rental Yield | C8: 0.08
B9: Agency cost, % of Rental Income | C9: 0.2
B11: Funded by:
B12: Mortgage (bank's money) | C12: 0.6 | D12: =C4*C12 -> 1440
B13: Equity (your money) | C13: =1-C12 -> 0.4 | D13: =C4-D12 -> 960
D14: =SUM(D12:D13) -> 2400
B15: Interest rate (cost of debt) | C15: 0.04
B17: Mortgage period (years) | C17: 40
B19: Tax rate | C19: 0.1
B21: Cost to build | C21: 1100
B22: Years to obliteration | C22: 50

Sheet Calcs
C1: Mid year | E1: 41639 | F1: =DATE(YEAR(F2),6,30) -> 41820 | G1: =DATE(YEAR(G2),6,30) -> 42185 | H1: =DATE(YEAR(H2),6,30) -> 42551 | I1: =DATE(YEAR(I2),6,30) -> 42916 | J1: =DATE(YEAR(J2),6,30) -> 43281 | K1: =DATE(YEAR(K2),6,30) -> 43646 | L1: =DATE(YEAR(L2),6,30) -> 44012 | M1: =DATE(YEAR(M2),6,30) -> 44377 | ... Z1: =DATE(YEAR(Z2),6,30) -> 49125
C2: Year end | E2: 41639 | F2: =EOMONTH(E2,12) -> 42004 | G2: =EOMONTH(F2,12) -> 42369 | H2: =EOMONTH(G2,12) -> 42735 | I2: =EOMONTH(H2,12) -> 43100 | J2: =EOMONTH(I2,12) -> 43465 | K2: =EOMONTH(J2,12) -> 43830 | L2: =EOMONTH(K2,12) -> 44196 | M2: =EOMONTH(L2,12) -> 44561 | ... Z2: =EOMONTH(Y2,12) -> 49309
C3: Year | E3: =YEAR(E2) -> 2013 | F3: =YEAR(F2) -> 2014 | G3: =YEAR(G2) -> 2015 | H3: =YEAR(H2) -> 2016 | I3: =YEAR(I2) -> 2017 | J3: =YEAR(J2) -> 2018 | K3: =YEAR(K2) -> 2019 | L3: =YEAR(L2) -> 2020 | ... Z3: =YEAR(Z2) -> 2034
B5: Inflation, p.a. | F5: 0.035 | G5: =F5 -> 0.035 | H5: =G5 -> 0.035 | I5: =H5 -> 0.035 | J5: =I5 -> 0.035 | K5: =J5 -> 0.035 | L5: =K5 -> 0.035 | M5: =L5 -> 0.035 | N5: =M5 -> 0.035 | ... Z5: =Y5 -> 0.035
B7: Income Statement
B8: Rental Income | D8: LV k | F8: =Assumptions!C8*Assumptions!$C$4 -> 192 | G8: =F8*(1+G5) -> 198.72 | H8: =G8*(1+H5) -> 205.6752 | I8: =H8*(1+I5) -> 212.87383 | J8: =I8*(1+J5) -> 220.32442 | K8: =J8*(1+K5) -> 228.03577 | L8: =K8*(1+L5) -> 236.01702 | M8: =L8*(1+M5) -> 244.27762 | N8: =M8*(1+N5) -> 252.82734 | ... Z8: =Y8*(1+Z5) -> 382.03946
B9: Agency Cost | D9: LV k | F9: =-F8*Assumptions!$C$9 -> -38.4 | G9: =-G8*Assumptions!$C$9 -> -39.744 | H9: =-H8*Assumptions!$C$9 -> -41.13504 | I9: =-I8*Assumptions!$C$9 -> -42.574766 | J9: =-J8*Assumptions!$C$9 -> -44.064883 | K9: =-K8*Assumptions!$C$9 -> -45.607154 | L9: =-L8*Assumptions!$C$9 -> -47.203405 | M9: =-M8*Assumptions!$C$9 -> -48.855524 | ... Z9: =-Z8*Assumptions!$C$9 -> -76.407892
B10: EBITDA | F10: =SUM(F8:F9) -> 153.6 | G10: =SUM(G8:G9) -> 158.976 | H10: =SUM(H8:H9) -> 164.54016 | I10: =SUM(I8:I9) -> 170.29907 | J10: =SUM(J8:J9) -> 176.25953 | K10: =SUM(K8:K9) -> 182.42862 | L10: =SUM(L8:L9) -> 188.81362 | M10: =SUM(M8:M9) -> 195.42209 | ... Z10: =SUM(Z8:Z9) -> 305.63157
B11: EBITDA growth rate | D11: % | G11: =G10/F10-1 -> 0.035 | H11: =H10/G10-1 -> 0.035 | I11: =I10/H10-1 -> 0.035 | J11: =J10/I10-1 -> 0.035 | K11: =K10/J10-1 -> 0.035 | L11: =L10/K10-1 -> 0.035 | M11: =M10/L10-1 -> 0.035 | N11: =N10/M10-1 -> 0.035 | ... Z11: =Z10/Y10-1 -> 0.035
B12: EBITDA Margin | D12: % | F12: =F10/F8 -> 0.8 | G12: =G10/G8 -> 0.8 | H12: =H10/H8 -> 0.8 | I12: =I10/I8 -> 0.8 | J12: =J10/J8 -> 0.8 | K12: =K10/K8 -> 0.8 | L12: =L10/L8 -> 0.8 | M12: =M10/M8 -> 0.8 | ... Z12: =Z10/Z8 -> 0.8
B14: Depreciation (Non-cash) | D14: LV k | F14: =-Assumptions!$C$21/Assumptions!$C$22 -> -22 | G14: =-Assumptions!$C$21/Assumptions!$C$22 -> -22 | H14: =-Assumptions!$C$21/Assumptions!$C$22 -> -22 | I14: =-Assumptions!$C$21/Assumptions!$C$22 -> -22 | J14: =-Assumptions!$C$21/Assumptions!$C$22 -> -22 | K14: =-Assumptions!$C$21/Assumptions!$C$22 -> -22 | L14: =-Assumptions!$C$21/Assumptions!$C$22 -> -22 | M14: =-Assumptions!$C$21/Assumptions!$C$22 -> -22 | ... Z14: =-Assumptions!$C$21/Assumptions!$C$22 -> -22
B15: EBIT | D15: LV k | F15: =F10+F14 -> 131.6 | G15: =G10+G14 -> 136.976 | H15: =H10+H14 -> 142.54016 | I15: =I10+I14 -> 148.29907 | J15: =J10+J14 -> 154.25953 | K15: =K10+K14 -> 160.42862 | L15: =L10+L14 -> 166.81362 | M15: =M10+M14 -> 173.42209 | ... Z15: =Z10+Z14 -> 283.63157
B17: Interest | D17: LV k | F17: =F55 -> -57.6 | G17: =G55 -> -57.022999 | H17: =H55 -> -56.422918 | I17: =I55 -> -55.798834 | J17: =J55 -> -55.149787 | K17: =K55 -> -54.474777 | L17: =L55 -> -53.772767 | M17: =M55 -> -53.042677 | ... Z17: =Z55 -> -40.418022
B18: Tax | D18: LV k | F18: =- (F15+F17) * Assumptions!$C$19 -> -7.4 | G18: =- (G15+G17) * Assumptions!$C$19 -> -7.9953001 | H18: =- (H15+H17) * Assumptions!$C$19 -> -8.6117242 | I18: =- (I15+I17) * Assumptions!$C$19 -> -9.2500232 | J18: =- (J15+J17) * Assumptions!$C$19 -> -9.9109746 | K18: =- (K15+K17) * Assumptions!$C$19 -> -10.595384 | L18: =- (L15+L17) * Assumptions!$C$19 -> -11.304085 | M18: =- (M15+M17) * Assumptions!$C$19 -> -12.037942 | ... Z18: =- (Z15+Z17) * Assumptions!$C$19 -> -24.321355
B20: Net Income | D20: LV k | F20: =SUM(F17:F18,F15) -> 66.6 | G20: =SUM(G17:G18,G15) -> 71.957701 | H20: =SUM(H17:H18,H15) -> 77.505518 | I20: =SUM(I17:I18,I15) -> 83.250208 | J20: =SUM(J17:J18,J15) -> 89.198772 | K20: =SUM(K17:K18,K15) -> 95.358456 | L20: =SUM(L17:L18,L15) -> 101.73677 | M20: =SUM(M17:M18,M15) -> 108.34148 | ... Z20: =SUM(Z17:Z18,Z15) -> 218.89219
B22: Statement of Cash Flows
B23: Operating Cash Flow
B24: EBITDA | D24: LV k | F24: =F10 -> 153.6 | G24: =G10 -> 158.976 | H24: =H10 -> 164.54016 | I24: =I10 -> 170.29907 | J24: =J10 -> 176.25953 | K24: =K10 -> 182.42862 | L24: =L10 -> 188.81362 | M24: =M10 -> 195.42209 | ... Z24: =Z10 -> 305.63157
B25: Tax | D25: LV k | F25: =F18 -> -7.4 | G25: =G18 -> -7.9953001 | H25: =H18 -> -8.6117242 | I25: =I18 -> -9.2500232 | J25: =J18 -> -9.9109746 | K25: =K18 -> -10.595384 | L25: =L18 -> -11.304085 | M25: =M18 -> -12.037942 | ... Z25: =Z18 -> -24.321355
B26: Change in working capital | D26: LV k | F26: 0 | G26: 0 | H26: 0 | I26: 0 | J26: 0 | K26: 0 | L26: 0 | M26: 0 | N26: 0 | O26: 0 | P26: 0 | Q26: 0 | R26: 0 | S26: 0 | T26: 0 | U26: 0 | V26: 0 | W26: 0 | X26: 0 | Y26: 0 | Z26: 0
B27: Maintenance Capex | D27: LV k | F27: 0 | G27: 0 | H27: 0 | I27: 0 | J27: 0 | K27: 0 | L27: 0 | M27: 0 | N27: 0 | O27: 0 | P27: 0 | Q27: 0 | R27: 0 | S27: 0 | T27: 0 | U27: 0 | V27: 0 | W27: 0 | X27: 0 | Y27: 0 | Z27: 0
B28: CFADS | D28: LV k | F28: =SUM(F24:F27) -> 146.2 | G28: =SUM(G24:G27) -> 150.9807 | H28: =SUM(H24:H27) -> 155.92844 | I28: =SUM(I24:I27) -> 161.04904 | J28: =SUM(J24:J27) -> 166.34856 | K28: =SUM(K24:K27) -> 171.83323 | L28: =SUM(L24:L27) -> 177.50953 | M28: =SUM(M24:M27) -> 183.38415 | ... Z28: =SUM(Z24:Z27) -> 281.31021
B30: Debt Service
B31: Interest | D31: LV k | F31: =F17 -> -57.6 | G31: =G17 -> -57.022999 | H31: =H17 -> -56.422918 | I31: =I17 -> -55.798834 | J31: =J17 -> -55.149787 | K31: =K17 -> -54.474777 | L31: =L17 -> -53.772767 | M31: =M17 -> -53.042677 | ... Z31: =Z17 -> -40.418022
B32: Principal repayment | D32: LV k | F32: =F52 -> -14.425022 | G32: =G52 -> -15.002023 | H32: =H52 -> -15.602104 | I32: =I52 -> -16.226188 | J32: =J52 -> -16.875236 | K32: =K52 -> -17.550245 | L32: =L52 -> -18.252255 | M32: =M52 -> -18.982345 | ... Z32: =Z52 -> -31.607
B33: Total Debt Service | D33: LV k | F33: =SUM(F31:F32) -> -72.025022 | G33: =SUM(G31:G32) -> -72.025022 | H33: =SUM(H31:H32) -> -72.025022 | I33: =SUM(I31:I32) -> -72.025022 | J33: =SUM(J31:J32) -> -72.025022 | K33: =SUM(K31:K32) -> -72.025022 | L33: =SUM(L31:L32) -> -72.025022 | M33: =SUM(M31:M32) -> -72.025022 | ... Z33: =SUM(Z31:Z32) -> -72.025022
B35: Cash flow to Equity (you) | D35: LV k | F35: =SUM(F31:F32,F28) -> 74.174978 | G35: =SUM(G31:G32,G28) -> 78.955678 | H35: =SUM(H31:H32,H28) -> 83.903414 | I35: =SUM(I31:I32,I28) -> 89.02402 | J35: =SUM(J31:J32,J28) -> 94.323536 | K35: =SUM(K31:K32,K28) -> 99.80821 | L35: =SUM(L31:L32,L28) -> 105.48451 | M35: =SUM(M31:M32,M28) -> 111.35913 | ... Z35: =SUM(Z31:Z32,Z28) -> 209.28519
B37: Terminal value | D37: LV k | Z37: =Assumptions!C4*(1+Calcs!$F$5)^(Z3-F3) -> 4775.4933
B38: Debt outstanding @ the end | D38: LV k | Z38: =-Z53 -> -978.84356
B39: Equity value to you | D39: LV k | Z39: =SUM(Z37:Z38) -> 3796.6497
B41: Cash flow to equity for valuation | D41: LV k | E41: =-Assumptions!D13 -> -960 | F41: =SUM(F35,F39) -> 74.174978 | G41: =SUM(G35,G39) -> 78.955678 | H41: =SUM(H35,H39) -> 83.903414 | I41: =SUM(I35,I39) -> 89.02402 | J41: =SUM(J35,J39) -> 94.323536 | K41: =SUM(K35,K39) -> 99.80821 | L41: =SUM(L35,L39) -> 105.48451 | M41: =SUM(M35,M39) -> 111.35913 | ... Z41: =SUM(Z35,Z39) -> 4005.9349
B43: IRR | E43: =IRR(E41:Z41) -> 0.13945718
B44: IRR | E44: =XIRR(E41:Z41,E1:Z1) -> 0.14629112
B46: Debt Schedule
B48: Periods remaining | F48: =Assumptions!C17+1 -> 41 | G48: =F48-1 -> 40 | H48: =G48-1 -> 39 | I48: =H48-1 -> 38 | J48: =I48-1 -> 37 | K48: =J48-1 -> 36 | L48: =K48-1 -> 35 | M48: =L48-1 -> 34 | N48: =M48-1 -> 33 | ... Z48: =Y48-1 -> 21
B50: Beginning | F50: =Assumptions!C4*Assumptions!C12 -> 1440 | G50: =F53 -> 1425.575 | H50: =G53 -> 1410.573 | I50: =H53 -> 1394.9709 | J50: =I53 -> 1378.7447 | K50: =J53 -> 1361.8694 | L50: =K53 -> 1344.3192 | M50: =L53 -> 1326.0669 | N50: =M53 -> 1307.0846 | ... Z50: =Y53 -> 1010.4506
B51: Additions | F51: 0 | G51: 0 | H51: 0 | I51: 0 | J51: 0 | K51: 0 | L51: 0 | M51: 0 | N51: 0 | O51: 0 | P51: 0 | Q51: 0 | R51: 0 | S51: 0 | T51: 0 | U51: 0 | V51: 0 | W51: 0 | X51: 0 | Y51: 0 | Z51: 0
B52: Deductions | F52: =-SUM(F55:F56) -> -14.425022 | G52: =-SUM(G55:G56) -> -15.002023 | H52: =-SUM(H55:H56) -> -15.602104 | I52: =-SUM(I55:I56) -> -16.226188 | J52: =-SUM(J55:J56) -> -16.875236 | K52: =-SUM(K55:K56) -> -17.550245 | L52: =-SUM(L55:L56) -> -18.252255 | M52: =-SUM(M55:M56) -> -18.982345 | ... Z52: =-SUM(Z55:Z56) -> -31.607
B53: Ending | F53: =SUM(F50:F52) -> 1425.575 | G53: =SUM(G50:G52) -> 1410.573 | H53: =SUM(H50:H52) -> 1394.9709 | I53: =SUM(I50:I52) -> 1378.7447 | J53: =SUM(J50:J52) -> 1361.8694 | K53: =SUM(K50:K52) -> 1344.3192 | L53: =SUM(L50:L52) -> 1326.0669 | M53: =SUM(M50:M52) -> 1307.0846 | ... Z53: =SUM(Z50:Z52) -> 978.84356
B55: Interest | F55: =-F50*Assumptions!$C$15 -> -57.6 | G55: =-G50*Assumptions!$C$15 -> -57.022999 | H55: =-H50*Assumptions!$C$15 -> -56.422918 | I55: =-I50*Assumptions!$C$15 -> -55.798834 | J55: =-J50*Assumptions!$C$15 -> -55.149787 | K55: =-K50*Assumptions!$C$15 -> -54.474777 | L55: =-L50*Assumptions!$C$15 -> -53.772767 | M55: =-M50*Assumptions!$C$15 -> -53.042677 | ... Z55: =-Z50*Assumptions!$C$15 -> -40.418022
...
